BEGIN:VCALENDAR
VERSION:2.0
PRODID:-//Epilepsy Foundation of Michigan - ECPv6.15.20//NONSGML v1.0//EN
CALSCALE:GREGORIAN
METHOD:PUBLISH
X-WR-CALNAME:Epilepsy Foundation of Michigan
X-ORIGINAL-URL:https://epilepsymichigan.org
X-WR-CALDESC:Events for Epilepsy Foundation of Michigan
REFRESH-INTERVAL;VALUE=DURATION:PT1H
X-Robots-Tag:noindex
X-PUBLISHED-TTL:PT1H
BEGIN:VTIMEZONE
TZID:America/Detroit
BEGIN:DAYLIGHT
TZOFFSETFROM:-0500
TZOFFSETTO:-0400
TZNAME:EDT
DTSTART:20240310T070000
END:DAYLIGHT
BEGIN:STANDARD
TZOFFSETFROM:-0400
TZOFFSETTO:-0500
TZNAME:EST
DTSTART:20241103T060000
END:STANDARD
BEGIN:DAYLIGHT
TZOFFSETFROM:-0500
TZOFFSETTO:-0400
TZNAME:EDT
DTSTART:20250309T070000
END:DAYLIGHT
BEGIN:STANDARD
TZOFFSETFROM:-0400
TZOFFSETTO:-0500
TZNAME:EST
DTSTART:20251102T060000
END:STANDARD
BEGIN:DAYLIGHT
TZOFFSETFROM:-0500
TZOFFSETTO:-0400
TZNAME:EDT
DTSTART:20260308T070000
END:DAYLIGHT
BEGIN:STANDARD
TZOFFSETFROM:-0400
TZOFFSETTO:-0500
TZNAME:EST
DTSTART:20261101T060000
END:STANDARD
END:VTIMEZONE
BEGIN:VEVENT
DTSTART;TZID=America/Detroit:20250902T200000
DTEND;TZID=America/Detroit:20250902T200000
DTSTAMP:20260425T211618
CREATED:20240111T214335Z
LAST-MODIFIED:20240111T215311Z
UID:10000292-1756843200-1756843200@epilepsymichigan.org
SUMMARY:Parents of People with Epilepsy Connect Group
DESCRIPTION:These weekly discussion groups provide participants an opportunity to share their experiences and ideas to help each other manage this challenging condition. Each meeting offers positive and constructive discussion\, with sharing of resources and strategies\, creative problem solving\, simple goal setting\, and general encouragement. \nWhether you call in every week\, once a month\, or as needed\, the Call & Connect Network will be here for you. \nRegister here.
URL:https://epilepsymichigan.org/event/parents-of-people-with-epilepsy-connect-group/2025-09-02/
LOCATION:Virtual
CATEGORIES:Virtual
ATTACH;FMTTYPE=image/jpeg:https://epilepsymichigan.org/wp-content/uploads/2022/11/IMG_4823-e1668525002722.jpeg
END:VEVENT
BEGIN:VEVENT
DTSTART;TZID=America/Detroit:20250903T160000
DTEND;TZID=America/Detroit:20250903T170000
DTSTAMP:20260425T211618
CREATED:20240111T214751Z
LAST-MODIFIED:20240111T215302Z
UID:10000494-1756915200-1756918800@epilepsymichigan.org
SUMMARY:Older Adults & Caregivers Connect Group
DESCRIPTION:These weekly discussion groups provide participants an opportunity to share their experiences and ideas to help each other manage this challenging condition. Each meeting offers positive and constructive discussion\, with sharing of resources and strategies\, creative problem solving\, simple goal setting\, and general encouragement. \nWhether you call in every week\, once a month\, or as needed\, the Call & Connect Network will be here for you. \nRegister here.
URL:https://epilepsymichigan.org/event/older-adults-caregivers-connect-group/2025-09-03/
LOCATION:Virtual
CATEGORIES:Virtual
ATTACH;FMTTYPE=image/png:https://epilepsymichigan.org/wp-content/uploads/2022/07/3.png
END:VEVENT
BEGIN:VEVENT
DTSTART;TZID=America/Detroit:20250909T193000
DTEND;TZID=America/Detroit:20250909T200000
DTSTAMP:20260425T211618
CREATED:20250905T143611Z
LAST-MODIFIED:20250905T143622Z
UID:10000873-1757446200-1757448000@epilepsymichigan.org
SUMMARY:Mindfulness Moments
DESCRIPTION:Mindfulness has been shown to calm our bodies\, reduce anxiety and stress\, and impact memory and cognition in positive ways. \n\n\nWe invite you to join us for Mindfulness Moments with Andrea Thomas\, MA\, LLP\, Psychologist at Henry Ford Comprehensive Epilepsy Center\, and Renee Roederer\, Sr. Director of Programs and Community Care\, at the Epilepsy Foundation of Michigan. \n\n\nOn the second Tuesday of each month\, Andrea and Renee will guide you through mindfulness exercises to focus on the present moment. \nRegister here.
URL:https://epilepsymichigan.org/event/mindfulness-moments-2/
LOCATION:Virtual
CATEGORIES:Virtual
ATTACH;FMTTYPE=image/png:https://epilepsymichigan.org/wp-content/uploads/2024/02/Neuroplasticity_addedframes13-32b022c332cf4addb43cca0436fdd4b5.png
END:VEVENT
BEGIN:VEVENT
DTSTART;TZID=America/Detroit:20250909T200000
DTEND;TZID=America/Detroit:20250909T200000
DTSTAMP:20260425T211618
CREATED:20240111T214335Z
LAST-MODIFIED:20240111T215311Z
UID:10000293-1757448000-1757448000@epilepsymichigan.org
SUMMARY:Parents of People with Epilepsy Connect Group
DESCRIPTION:These weekly discussion groups provide participants an opportunity to share their experiences and ideas to help each other manage this challenging condition. Each meeting offers positive and constructive discussion\, with sharing of resources and strategies\, creative problem solving\, simple goal setting\, and general encouragement. \nWhether you call in every week\, once a month\, or as needed\, the Call & Connect Network will be here for you. \nRegister here.
URL:https://epilepsymichigan.org/event/parents-of-people-with-epilepsy-connect-group/2025-09-09/
LOCATION:Virtual
CATEGORIES:Virtual
ATTACH;FMTTYPE=image/jpeg:https://epilepsymichigan.org/wp-content/uploads/2022/11/IMG_4823-e1668525002722.jpeg
END:VEVENT
BEGIN:VEVENT
DTSTART;TZID=America/Detroit:20250910T160000
DTEND;TZID=America/Detroit:20250910T170000
DTSTAMP:20260425T211618
CREATED:20240111T214751Z
LAST-MODIFIED:20240111T215302Z
UID:10000495-1757520000-1757523600@epilepsymichigan.org
SUMMARY:Older Adults & Caregivers Connect Group
DESCRIPTION:These weekly discussion groups provide participants an opportunity to share their experiences and ideas to help each other manage this challenging condition. Each meeting offers positive and constructive discussion\, with sharing of resources and strategies\, creative problem solving\, simple goal setting\, and general encouragement. \nWhether you call in every week\, once a month\, or as needed\, the Call & Connect Network will be here for you. \nRegister here.
URL:https://epilepsymichigan.org/event/older-adults-caregivers-connect-group/2025-09-10/
LOCATION:Virtual
CATEGORIES:Virtual
ATTACH;FMTTYPE=image/png:https://epilepsymichigan.org/wp-content/uploads/2022/07/3.png
END:VEVENT
BEGIN:VEVENT
DTSTART;TZID=America/Detroit:20250911T190000
DTEND;TZID=America/Detroit:20250911T200000
DTSTAMP:20260425T211618
CREATED:20250102T155821Z
LAST-MODIFIED:20250102T160036Z
UID:10000843-1757617200-1757620800@epilepsymichigan.org
SUMMARY:Upper Peninsula Monthly Virtual Meet-Up
DESCRIPTION:Virtual \nLiving with epilepsy can feel isolating\, but you are not alone.  In 2025\, the Epilepsy Foundation of Michigan will host a monthly Virtual Meet-Up for residents of the Upper Peninsula living with epilepsy. \nThese virtual meet-ups will be held the 2nd Thursday of every month at 7:00pm\, EST and will offer a supportive space to connect\, share experiences\, and get advice on handling the challenges like accessing care and resources.  Whether you attend every month or just when you need support\, this group is here for you! \nRegister here: https://us02web.zoom.us/meeting/register/tZ0qduysqz4uE9SXLDf5kKi7agJQ5g-jzwLS
URL:https://epilepsymichigan.org/event/upper-peninsula-monthly-virtual-meet-up/2025-09-11/
LOCATION:MI
END:VEVENT
BEGIN:VEVENT
DTSTART;TZID=America/Detroit:20250914T190000
DTEND;TZID=America/Detroit:20250914T200000
DTSTAMP:20260425T211618
CREATED:20250828T143745Z
LAST-MODIFIED:20250828T143745Z
UID:10001094-1757876400-1757880000@epilepsymichigan.org
SUMMARY:Young Adults with Epilepsy Connect Group
DESCRIPTION:These weekly discussion groups provide young adults\, ages 18-25\, an opportunity to share their experiences and ideas to help each other manage this challenging condition. Each meeting offers positive and constructive discussion\, with sharing of resources and strategies\, creative problem solving\, simple goal setting\, and general encouragement. \nWhether you call in every week\, once a month\, or as needed\, the Call & Connect Network will be here for you. \nTo receive the Zoom link\, please email Renee Roederer.
URL:https://epilepsymichigan.org/event/young-adults-with-epilepsy-connect-group-3/2025-09-14/
LOCATION:Virtual
CATEGORIES:Virtual
ATTACH;FMTTYPE=image/jpeg:https://epilepsymichigan.org/wp-content/uploads/2024/01/Young-Adults-2-1-e1705010337725.jpg
END:VEVENT
BEGIN:VEVENT
DTSTART;TZID=America/Detroit:20250916T200000
DTEND;TZID=America/Detroit:20250916T200000
DTSTAMP:20260425T211618
CREATED:20240111T214335Z
LAST-MODIFIED:20240111T215311Z
UID:10000294-1758052800-1758052800@epilepsymichigan.org
SUMMARY:Parents of People with Epilepsy Connect Group
DESCRIPTION:These weekly discussion groups provide participants an opportunity to share their experiences and ideas to help each other manage this challenging condition. Each meeting offers positive and constructive discussion\, with sharing of resources and strategies\, creative problem solving\, simple goal setting\, and general encouragement. \nWhether you call in every week\, once a month\, or as needed\, the Call & Connect Network will be here for you. \nRegister here.
URL:https://epilepsymichigan.org/event/parents-of-people-with-epilepsy-connect-group/2025-09-16/
LOCATION:Virtual
CATEGORIES:Virtual
ATTACH;FMTTYPE=image/jpeg:https://epilepsymichigan.org/wp-content/uploads/2022/11/IMG_4823-e1668525002722.jpeg
END:VEVENT
BEGIN:VEVENT
DTSTART;TZID=America/Detroit:20250917T160000
DTEND;TZID=America/Detroit:20250917T170000
DTSTAMP:20260425T211618
CREATED:20240111T214751Z
LAST-MODIFIED:20240111T215302Z
UID:10000496-1758124800-1758128400@epilepsymichigan.org
SUMMARY:Older Adults & Caregivers Connect Group
DESCRIPTION:These weekly discussion groups provide participants an opportunity to share their experiences and ideas to help each other manage this challenging condition. Each meeting offers positive and constructive discussion\, with sharing of resources and strategies\, creative problem solving\, simple goal setting\, and general encouragement. \nWhether you call in every week\, once a month\, or as needed\, the Call & Connect Network will be here for you. \nRegister here.
URL:https://epilepsymichigan.org/event/older-adults-caregivers-connect-group/2025-09-17/
LOCATION:Virtual
CATEGORIES:Virtual
ATTACH;FMTTYPE=image/png:https://epilepsymichigan.org/wp-content/uploads/2022/07/3.png
END:VEVENT
BEGIN:VEVENT
DTSTART;TZID=America/Detroit:20250923T200000
DTEND;TZID=America/Detroit:20250923T200000
DTSTAMP:20260425T211618
CREATED:20240111T214335Z
LAST-MODIFIED:20240111T215311Z
UID:10000295-1758657600-1758657600@epilepsymichigan.org
SUMMARY:Parents of People with Epilepsy Connect Group
DESCRIPTION:These weekly discussion groups provide participants an opportunity to share their experiences and ideas to help each other manage this challenging condition. Each meeting offers positive and constructive discussion\, with sharing of resources and strategies\, creative problem solving\, simple goal setting\, and general encouragement. \nWhether you call in every week\, once a month\, or as needed\, the Call & Connect Network will be here for you. \nRegister here.
URL:https://epilepsymichigan.org/event/parents-of-people-with-epilepsy-connect-group/2025-09-23/
LOCATION:Virtual
CATEGORIES:Virtual
ATTACH;FMTTYPE=image/jpeg:https://epilepsymichigan.org/wp-content/uploads/2022/11/IMG_4823-e1668525002722.jpeg
END:VEVENT
BEGIN:VEVENT
DTSTART;TZID=America/Detroit:20250924T160000
DTEND;TZID=America/Detroit:20250924T170000
DTSTAMP:20260425T211618
CREATED:20240111T214751Z
LAST-MODIFIED:20240111T215302Z
UID:10000497-1758729600-1758733200@epilepsymichigan.org
SUMMARY:Older Adults & Caregivers Connect Group
DESCRIPTION:These weekly discussion groups provide participants an opportunity to share their experiences and ideas to help each other manage this challenging condition. Each meeting offers positive and constructive discussion\, with sharing of resources and strategies\, creative problem solving\, simple goal setting\, and general encouragement. \nWhether you call in every week\, once a month\, or as needed\, the Call & Connect Network will be here for you. \nRegister here.
URL:https://epilepsymichigan.org/event/older-adults-caregivers-connect-group/2025-09-24/
LOCATION:Virtual
CATEGORIES:Virtual
ATTACH;FMTTYPE=image/png:https://epilepsymichigan.org/wp-content/uploads/2022/07/3.png
END:VEVENT
BEGIN:VEVENT
DTSTART;TZID=America/Detroit:20250925T201500
DTEND;TZID=America/Detroit:20250925T220000
DTSTAMP:20260425T211618
CREATED:20250915T160820Z
LAST-MODIFIED:20250915T160826Z
UID:10001237-1758831300-1758837600@epilepsymichigan.org
SUMMARY:Under the Lights Premiere
DESCRIPTION:On Thursday\, September 25th at 8:15 PM in Bay City\, experience a live showing of the full feature film\, Under the Lights\, created by filmmaker Miles Levin.Miles\, who lives with epilepsy\, is on a mission to change the way the world understands this often-misunderstood condition. The Epilepsy Foundation of Michigan is proud to support both Miles and this important film as it begins to make its impact. Plus\, Miles will be in person for a live Q&A!GET TICKETSLearn more about Under the Lights here.
URL:https://epilepsymichigan.org/event/under-the-lights-premiere/
LOCATION:State Theatre\, 913 Washington Ave\, Bay City\, Michigan\, 48708
CATEGORIES:Special Event
ATTACH;FMTTYPE=image/jpeg:https://epilepsymichigan.org/wp-content/uploads/2025/09/539201797_1193691546136418_2437195932533030831_n-scaled.jpg
END:VEVENT
BEGIN:VEVENT
DTSTART;TZID=America/Detroit:20250928T190000
DTEND;TZID=America/Detroit:20250928T200000
DTSTAMP:20260425T211618
CREATED:20250828T143745Z
LAST-MODIFIED:20250828T143745Z
UID:10001224-1759086000-1759089600@epilepsymichigan.org
SUMMARY:Young Adults with Epilepsy Connect Group
DESCRIPTION:These weekly discussion groups provide young adults\, ages 18-25\, an opportunity to share their experiences and ideas to help each other manage this challenging condition. Each meeting offers positive and constructive discussion\, with sharing of resources and strategies\, creative problem solving\, simple goal setting\, and general encouragement. \nWhether you call in every week\, once a month\, or as needed\, the Call & Connect Network will be here for you. \nTo receive the Zoom link\, please email Renee Roederer.
URL:https://epilepsymichigan.org/event/young-adults-with-epilepsy-connect-group-3/2025-09-28/
LOCATION:Virtual
CATEGORIES:Virtual
ATTACH;FMTTYPE=image/jpeg:https://epilepsymichigan.org/wp-content/uploads/2024/01/Young-Adults-2-1-e1705010337725.jpg
END:VEVENT
BEGIN:VEVENT
DTSTART;TZID=America/Detroit:20250930T200000
DTEND;TZID=America/Detroit:20250930T200000
DTSTAMP:20260425T211618
CREATED:20240111T214335Z
LAST-MODIFIED:20240111T215311Z
UID:10000296-1759262400-1759262400@epilepsymichigan.org
SUMMARY:Parents of People with Epilepsy Connect Group
DESCRIPTION:These weekly discussion groups provide participants an opportunity to share their experiences and ideas to help each other manage this challenging condition. Each meeting offers positive and constructive discussion\, with sharing of resources and strategies\, creative problem solving\, simple goal setting\, and general encouragement. \nWhether you call in every week\, once a month\, or as needed\, the Call & Connect Network will be here for you. \nRegister here.
URL:https://epilepsymichigan.org/event/parents-of-people-with-epilepsy-connect-group/2025-09-30/
LOCATION:Virtual
CATEGORIES:Virtual
ATTACH;FMTTYPE=image/jpeg:https://epilepsymichigan.org/wp-content/uploads/2022/11/IMG_4823-e1668525002722.jpeg
END:VEVENT
END:VCALENDAR