BEGIN:VCALENDAR
VERSION:2.0
PRODID:-//Epilepsy Foundation of Michigan - ECPv6.15.20//NONSGML v1.0//EN
CALSCALE:GREGORIAN
METHOD:PUBLISH
X-WR-CALNAME:Epilepsy Foundation of Michigan
X-ORIGINAL-URL:https://epilepsymichigan.org
X-WR-CALDESC:Events for Epilepsy Foundation of Michigan
REFRESH-INTERVAL;VALUE=DURATION:PT1H
X-Robots-Tag:noindex
X-PUBLISHED-TTL:PT1H
BEGIN:VTIMEZONE
TZID:America/Detroit
BEGIN:DAYLIGHT
TZOFFSETFROM:-0500
TZOFFSETTO:-0400
TZNAME:EDT
DTSTART:20230312T070000
END:DAYLIGHT
BEGIN:STANDARD
TZOFFSETFROM:-0400
TZOFFSETTO:-0500
TZNAME:EST
DTSTART:20231105T060000
END:STANDARD
BEGIN:DAYLIGHT
TZOFFSETFROM:-0500
TZOFFSETTO:-0400
TZNAME:EDT
DTSTART:20240310T070000
END:DAYLIGHT
BEGIN:STANDARD
TZOFFSETFROM:-0400
TZOFFSETTO:-0500
TZNAME:EST
DTSTART:20241103T060000
END:STANDARD
BEGIN:DAYLIGHT
TZOFFSETFROM:-0500
TZOFFSETTO:-0400
TZNAME:EDT
DTSTART:20250309T070000
END:DAYLIGHT
BEGIN:STANDARD
TZOFFSETFROM:-0400
TZOFFSETTO:-0500
TZNAME:EST
DTSTART:20251102T060000
END:STANDARD
BEGIN:DAYLIGHT
TZOFFSETFROM:-0500
TZOFFSETTO:-0400
TZNAME:EDT
DTSTART:20260308T070000
END:DAYLIGHT
BEGIN:STANDARD
TZOFFSETFROM:-0400
TZOFFSETTO:-0500
TZNAME:EST
DTSTART:20261101T060000
END:STANDARD
BEGIN:DAYLIGHT
TZOFFSETFROM:-0500
TZOFFSETTO:-0400
TZNAME:EDT
DTSTART:20270314T070000
END:DAYLIGHT
BEGIN:STANDARD
TZOFFSETFROM:-0400
TZOFFSETTO:-0500
TZNAME:EST
DTSTART:20271107T060000
END:STANDARD
END:VTIMEZONE
BEGIN:VEVENT
DTSTART;TZID=America/Detroit:20260423T160000
DTEND;TZID=America/Detroit:20260423T183000
DTSTAMP:20260425T161958
CREATED:20240326T164022Z
LAST-MODIFIED:20260130T201014Z
UID:10000817-1776960000-1776969000@epilepsymichigan.org
SUMMARY:Epilepsy Foundation of Michigan Open House
DESCRIPTION:Please join us for an opportunity to gather together and meet the Epilepsy Foundation of Michigan staff\, enjoy refreshments\, and learn more about the services and opportunities we offer! You will also have the option to attend a FREE seizure first aid training and become Seizure First Aid Certified. Reserve your spot here! \nFor planning purposes\, registration is encouraged but not required. We look forward to connecting with you! \nThursday\, April 23rd\nOpen House: 4:00-6:30 PM\nSeizure First Aid Training: 6:00-7:30 PM
URL:https://epilepsymichigan.org/event/open-house/
LOCATION:Epilepsy Foundation of Michigan\, 25200 Telegraph Road Suite 110\, Southfield\, MI\, 48033\, United States
CATEGORIES:Seizure First Aid Training,Special Event
END:VEVENT
BEGIN:VEVENT
DTSTART;TZID=America/Detroit:20251112T183000
DTEND;TZID=America/Detroit:20251112T203000
DTSTAMP:20260425T161958
CREATED:20251009T171534Z
LAST-MODIFIED:20251023T192528Z
UID:10001238-1762972200-1762979400@epilepsymichigan.org
SUMMARY:Conversation + Memoir-Writing Workshop with Marianne Richmond
DESCRIPTION:Join longtime children’s author Marianne Richmond and Renee Roederer\, Sr. Director of Programs and Community Care at the Epilepsy Foundation of Michigan\, as they discuss Marianne’s memoir\, If You Were My Daughter. \nFor three decades\, Marianne’s picture books have helped people share their heart and connect with those they love. She now recounts her own ‘backstory’ in her compelling memoir\, chronicling how growing up with misdiagnosed epilepsy and an emotionally unavailable mom inspired her to become a witness to others through her writing. \nEvent Details:\nWednesday\, November 12\, 2025\n6:30 -8:30 pm\nSchulers Ann Arbor (2513 Jackson Avenue Ann Arbor\, MI\, 48103) \n\nREGISTER HERE
URL:https://epilepsymichigan.org/event/conversation-memoir-writing-workshop-with-marianne-richmond/
LOCATION:Schulers Ann Arbor\, 2513 Jackson Ave\, Ann Arbor\, 48103\, United States
CATEGORIES:Special Event
ATTACH;FMTTYPE=image/png:https://epilepsymichigan.org/wp-content/uploads/2025/10/Heading-2.png
END:VEVENT
BEGIN:VEVENT
DTSTART;TZID=America/Detroit:20251012T090000
DTEND;TZID=America/Detroit:20251012T120000
DTSTAMP:20260425T161958
CREATED:20250711T140959Z
LAST-MODIFIED:20250731T204735Z
UID:10000880-1760259600-1760270400@epilepsymichigan.org
SUMMARY:Upper Peninsula Mini-Stroll
DESCRIPTION:We invite you to attend the Upper Peninsula Mini-Stroll\, a walk for epilepsy awareness. This fundraising event will unite the Northern Michigan community for an inspirational morning to celebrate epilepsy warriors\, increase awareness\, and fight the stigma and challenges of an epilepsy diagnosis. \nPlus! You can attend a FREE Seizure Recognition and First-Aid training at Northern Michigan University the night before!  See registration link below for more details! \nReserve your spot now and stroll with us on October 12\, 2025! \n\nSunday\, October 12th\, at the Northern Michigan University Superior Dome.\nCheck-in Opens at 9:00 am\nOpening Ceremonies begin at 10:00 am\n\nOrder your Upper Peninsula Mini-Stroll T-Shirt Today! \nWhether you can attend in person or supporting remotely\, you can purchase an Upper Peninsula Mini-Stroll T-Shirt.  T-Shirts are available for pre-order now through September 14\, 2025. All shirts will be printed and shipped after September 14 to ensure delivery in time for the event on October 12. Pre-order your t-shirt here.
URL:https://epilepsymichigan.org/event/upper-peninsula-mini-stroll/
LOCATION:Northern Michigan University Superior Dome\, 1401 Presque Isle Avenue\, Marquette\, MI\, 49855\, United States
CATEGORIES:Special Event
ATTACH;FMTTYPE=image/png:https://epilepsymichigan.org/wp-content/uploads/2025/07/Mini-Stroll-Logo-wName-Color-1-e1753892232330.png
END:VEVENT
BEGIN:VEVENT
DTSTART;TZID=America/Detroit:20250925T201500
DTEND;TZID=America/Detroit:20250925T220000
DTSTAMP:20260425T161958
CREATED:20250915T160820Z
LAST-MODIFIED:20250915T160826Z
UID:10001237-1758831300-1758837600@epilepsymichigan.org
SUMMARY:Under the Lights Premiere
DESCRIPTION:On Thursday\, September 25th at 8:15 PM in Bay City\, experience a live showing of the full feature film\, Under the Lights\, created by filmmaker Miles Levin.Miles\, who lives with epilepsy\, is on a mission to change the way the world understands this often-misunderstood condition. The Epilepsy Foundation of Michigan is proud to support both Miles and this important film as it begins to make its impact. Plus\, Miles will be in person for a live Q&A!GET TICKETSLearn more about Under the Lights here.
URL:https://epilepsymichigan.org/event/under-the-lights-premiere/
LOCATION:State Theatre\, 913 Washington Ave\, Bay City\, Michigan\, 48708
CATEGORIES:Special Event
ATTACH;FMTTYPE=image/jpeg:https://epilepsymichigan.org/wp-content/uploads/2025/09/539201797_1193691546136418_2437195932533030831_n-scaled.jpg
END:VEVENT
BEGIN:VEVENT
DTSTART;TZID=America/Detroit:20250530T180500
DTEND;TZID=America/Detroit:20250530T210000
DTSTAMP:20260425T161958
CREATED:20250502T152940Z
LAST-MODIFIED:20250502T153010Z
UID:10000878-1748628300-1748638800@epilepsymichigan.org
SUMMARY:Community Org of the Night @ Great Lakes Loons Game
DESCRIPTION:On Friday\, May 30\, the Epilepsy Foundation of Michigan will be featured as the Community Organization of the Night at the Great Lakes Loons baseball game at Dow Diamond. We’ll have a promotional table set up at the stadium and the opportunity to raise awareness about the Foundation and the Midland Stroll for Epilepsy\, which takes place at the same location the following morning. \nDow Diamond has created a dedicated ticket link for this event\, and a portion of the proceeds will benefit the Epilepsy Foundation of Michigan. \nHope to see you there!
URL:https://epilepsymichigan.org/event/dow-diamond-loons-game/
LOCATION:Dow Diamond\, 825 E. Main St\, Midland\, MI\, 48640\, United States
CATEGORIES:Special Event
END:VEVENT
BEGIN:VEVENT
DTSTART;TZID=America/Detroit:20250517T090000
DTEND;TZID=America/Detroit:20250517T120000
DTSTAMP:20260425T161958
CREATED:20240216T172923Z
LAST-MODIFIED:20241217T201545Z
UID:10000809-1747472400-1747483200@epilepsymichigan.org
SUMMARY:Traverse City Stroll for Epilepsy
DESCRIPTION:Join us at Civic Center Park on Saturday\, May 17 at 9:00 am for our Traverse City Stroll for Epilepsy™\, as we stroll for the almost 109\,000 people in Michigan who have epilepsy. Funds raised from this event and our other Strolls support the Epilepsy Foundation of Michigan’s mission to lead the fight to overcome the challenges of living with epilepsy and to accelerate therapies to stop seizures\, find cures\, and save lives. Registration opens soon!
URL:https://epilepsymichigan.org/event/traverse-city-stroll-for-epilepsy/
LOCATION:Civic Center Park\, 1213 W. Civic Center Drive\, Traverse City\, MI\, 49686\, United States
CATEGORIES:Special Event
ATTACH;FMTTYPE=image/jpeg:https://epilepsymichigan.org/wp-content/uploads/2024/01/IMG_0261.jpeg
END:VEVENT
BEGIN:VEVENT
DTSTART;TZID=America/Detroit:20241114T110000
DTEND;TZID=America/Detroit:20241114T210000
DTSTAMP:20260425T161958
CREATED:20241015T163020Z
LAST-MODIFIED:20241021T153727Z
UID:10000831-1731582000-1731618000@epilepsymichigan.org
SUMMARY:On The Border Fundraiser
DESCRIPTION:  \n \n\n\n\n\n\n\n\n\n\n\n\n\n\n\n\nMake a difference with every bite! \nOn November 14th\, from 11:00 AM to 9:00 PM\, dine at On The Border Mexican Grill & Cantina—at either the Kentwood or Allen Park location—and 20% of your purchase will be donated to the Epilepsy Foundation of Michigan. With one location on the west side of the state and the other on the east\, let’s see which side truly comes out on top! \nWhile alcohol and gift card purchases are excluded\, both dine-in and takeout orders will support the cause. For dine-in and takeout\, mention “Epilepsy Foundation of Michigan” at checkout\, and for online orders\, use the code “FUNDRAISER.” Don’t miss this chance to enjoy great food while making a meaningful impact! \nAllen Park location: 3310 Fairlane Dr\, Allen Park\, MI 48101\nKentwood location: 3195 28th St SE R-101\, Kentwood\, MI 49512
URL:https://epilepsymichigan.org/event/on-the-border-fundraiser/
LOCATION:MI
CATEGORIES:Special Event
END:VEVENT
BEGIN:VEVENT
DTSTART;TZID=America/Detroit:20241005T090000
DTEND;TZID=America/Detroit:20241005T170000
DTSTAMP:20260425T161958
CREATED:20240827T121101Z
LAST-MODIFIED:20240827T121101Z
UID:10000830-1728118800-1728147600@epilepsymichigan.org
SUMMARY:Big Brain at the Flint Farmers' Market
DESCRIPTION:Tour the Big Brain\, meet our team\, and learn about our services.
URL:https://epilepsymichigan.org/event/big-brain-at-the-flint-farmers-market/
LOCATION:Flint Farmers’ Market\, 300 East First St\, Flint\, MI\, 48502\, United States
CATEGORIES:Special Event
END:VEVENT
BEGIN:VEVENT
DTSTART;TZID=America/Detroit:20240927T183000
DTEND;TZID=America/Detroit:20240927T220000
DTSTAMP:20260425T161958
CREATED:20240326T164854Z
LAST-MODIFIED:20240326T164854Z
UID:10000818-1727461800-1727474400@epilepsymichigan.org
SUMMARY:Toasting Hope Tasting Event
DESCRIPTION:The 16th Annual Toasting Hope Tasting Event will be held on Friday\, September 27th at The Townsend Hotel in Birmingham. The event will feature a strolling-style tasting experience of culinary delights\, alcoholic and non-alcoholic beverages\, live music\, dancing\, and live and silent auctions. It is an evening full of entertainment\, inspiration\, and hope! Tickets go on sale in July.
URL:https://epilepsymichigan.org/event/toasting-hope-tasting-event/
LOCATION:The Townsend Hotel\, 100 Townsend Street\, Birmingham\, MI\, 48009
CATEGORIES:Special Event
ATTACH;FMTTYPE=image/jpeg:https://epilepsymichigan.org/wp-content/uploads/2024/03/Committee-Cheers-1.jpg
END:VEVENT
BEGIN:VEVENT
DTSTART;TZID=America/Detroit:20240803T173000
DTEND;TZID=America/Detroit:20240803T223000
DTSTAMP:20260425T161958
CREATED:20240529T150304Z
LAST-MODIFIED:20240614T160450Z
UID:10000823-1722706200-1722724200@epilepsymichigan.org
SUMMARY:Epilepsy Awareness Night at Jimmy John's Field
DESCRIPTION:Join us as we Purple Out the Park to spread Epilepsy Awareness at the Jimmy John’s Field! \nThis is a doubleheader game for the Mammoths vs. Beavers\, so with the purchase of one ticket\, you can choose to see one or both games! Gates open at 4:30PM\, with a 5:30PM start time for the first game and 7:30PM start time for the second game. \nIf you’d like to sit near the Epilepsy Foundation of Michigan staff\, feel free to join us towards the back of section 106 and possibly 107.  Wherever you choose to sit\, we hope to Paint the Park Purple together! \nTickets can be purchased in advance or at the door through the Jimmy John’s Field website: https://uspbl.com/promotions/abba-night-presented-by-the-detroit-news/ \nThe first 500 people at the event will receive purple bandanas to wear or to wave during the game! \nSpecial thank you to our bandana sponsors\, Corewell Health\, and to Marketing Tools\, Inc. for their support and creative design! \nWe hope to see you there! \nIf you have any questions\, please contact Nicole Fitzpatrick\, nfitzpatrick@epilepsymichigan.org.
URL:https://epilepsymichigan.org/event/epilepsy-awareness-night-at-jimmy-johns-field/
LOCATION:UWM Field\, 7171 Auburn Road\, Utica\, 48317\, United States
CATEGORIES:Special Event
ATTACH;FMTTYPE=image/png:https://epilepsymichigan.org/wp-content/uploads/2024/05/Event-Image.png
END:VEVENT
BEGIN:VEVENT
DTSTART;TZID=America/Detroit:20240624T130000
DTEND;TZID=America/Detroit:20240624T190000
DTSTAMP:20260425T161958
CREATED:20240213T215421Z
LAST-MODIFIED:20240213T215429Z
UID:10000808-1719234000-1719255600@epilepsymichigan.org
SUMMARY:Paul Neu Memorial Golf Classic
DESCRIPTION:This event will be held at Railside Golf Club in Byron Center\, and begins at 1:00pm with a Shotgun start – scramble. We are incredibly grateful to the Neu family and our wonderful supporters\, sponsors\, and volunteers for making this event possible. Register today.
URL:https://epilepsymichigan.org/event/paul-neu-golf-classic/
LOCATION:Railside Golf Club\, 76th Street SW\, Byron Center\, MI\, 49315\, United States
CATEGORIES:Special Event
ATTACH;FMTTYPE=image/jpeg:https://epilepsymichigan.org/wp-content/uploads/2021/12/PICT4305.jpg
END:VEVENT
BEGIN:VEVENT
DTSTART;TZID=America/Detroit:20240216T073000
DTEND;TZID=America/Detroit:20240216T093000
DTSTAMP:20260425T161958
CREATED:20240216T173700Z
LAST-MODIFIED:20240216T173709Z
UID:10000813-1708068600-1708075800@epilepsymichigan.org
SUMMARY:Lansing Stroll for Epilepsy
DESCRIPTION:Join us at the amazing Potter Park Zoo on Saturday\, July 27 at 7:30 am for our 2024 Lansing Stroll for Epilepsy™\, as we stroll for the almost 109\,000 people in Michigan who have epilepsy. Funds raised from this event and our other Strolls support the Epilepsy Foundation of Michigan’s mission to lead the fight to overcome the challenges of living with epilepsy and to accelerate therapies to stop seizures\, find cures\, and save lives. Register today.
URL:https://epilepsymichigan.org/event/lansing-stroll-for-epilepsy/
LOCATION:Potter Park Zoo\, 1301 S. Pennsylvania Ave\, Lansing\, MI\, 48912\, United States
CATEGORIES:Special Event
ATTACH;FMTTYPE=image/png:https://epilepsymichigan.org/wp-content/uploads/2024/01/Camp-Oz-Postcard-5x7-1.png
END:VEVENT
END:VCALENDAR