BEGIN:VCALENDAR
VERSION:2.0
PRODID:-//Epilepsy Foundation of Michigan - ECPv6.15.20//NONSGML v1.0//EN
CALSCALE:GREGORIAN
METHOD:PUBLISH
X-ORIGINAL-URL:https://epilepsymichigan.org
X-WR-CALDESC:Events for Epilepsy Foundation of Michigan
REFRESH-INTERVAL;VALUE=DURATION:PT1H
X-Robots-Tag:noindex
X-PUBLISHED-TTL:PT1H
BEGIN:VTIMEZONE
TZID:America/Detroit
BEGIN:DAYLIGHT
TZOFFSETFROM:-0500
TZOFFSETTO:-0400
TZNAME:EDT
DTSTART:20240310T070000
END:DAYLIGHT
BEGIN:STANDARD
TZOFFSETFROM:-0400
TZOFFSETTO:-0500
TZNAME:EST
DTSTART:20241103T060000
END:STANDARD
BEGIN:DAYLIGHT
TZOFFSETFROM:-0500
TZOFFSETTO:-0400
TZNAME:EDT
DTSTART:20250309T070000
END:DAYLIGHT
BEGIN:STANDARD
TZOFFSETFROM:-0400
TZOFFSETTO:-0500
TZNAME:EST
DTSTART:20251102T060000
END:STANDARD
BEGIN:DAYLIGHT
TZOFFSETFROM:-0500
TZOFFSETTO:-0400
TZNAME:EDT
DTSTART:20260308T070000
END:DAYLIGHT
BEGIN:STANDARD
TZOFFSETFROM:-0400
TZOFFSETTO:-0500
TZNAME:EST
DTSTART:20261101T060000
END:STANDARD
END:VTIMEZONE
BEGIN:VEVENT
DTSTART;TZID=America/Detroit:20251112T183000
DTEND;TZID=America/Detroit:20251112T203000
DTSTAMP:20260425T204703
CREATED:20251009T171534Z
LAST-MODIFIED:20251023T192528Z
UID:10001238-1762972200-1762979400@epilepsymichigan.org
SUMMARY:Conversation + Memoir-Writing Workshop with Marianne Richmond
DESCRIPTION:Join longtime children’s author Marianne Richmond and Renee Roederer\, Sr. Director of Programs and Community Care at the Epilepsy Foundation of Michigan\, as they discuss Marianne’s memoir\, If You Were My Daughter. \nFor three decades\, Marianne’s picture books have helped people share their heart and connect with those they love. She now recounts her own ‘backstory’ in her compelling memoir\, chronicling how growing up with misdiagnosed epilepsy and an emotionally unavailable mom inspired her to become a witness to others through her writing. \nEvent Details:\nWednesday\, November 12\, 2025\n6:30 -8:30 pm\nSchulers Ann Arbor (2513 Jackson Avenue Ann Arbor\, MI\, 48103) \n\nREGISTER HERE
URL:https://epilepsymichigan.org/event/conversation-memoir-writing-workshop-with-marianne-richmond/
LOCATION:Schulers Ann Arbor\, 2513 Jackson Ave\, Ann Arbor\, 48103\, United States
CATEGORIES:Special Event
ATTACH;FMTTYPE=image/png:https://epilepsymichigan.org/wp-content/uploads/2025/10/Heading-2.png
END:VEVENT
END:VCALENDAR